BEGIN:VCALENDAR
VERSION:2.0
PRODID:-//Lisa Marie DePiano - ECPv4.9.2//NONSGML v1.0//EN
CALSCALE:GREGORIAN
METHOD:PUBLISH
X-WR-CALNAME:Lisa Marie DePiano
X-ORIGINAL-URL:https://lisamariedepiano.com
X-WR-CALDESC:Events for Lisa Marie DePiano
BEGIN:VEVENT
DTSTART;VALUE=DATE:20170807
DTEND;VALUE=DATE:20170812
DTSTAMP:20260423T174824
CREATED:20170223T182816Z
LAST-MODIFIED:20170223T182816Z
UID:388-1502064000-1502495999@lisamariedepiano.com
SUMMARY:Social Permaculture at Sterling College
DESCRIPTION:Faculty: Pandora Thomas & Lisa DePiano\nThis five-day Social Permaculture intensive uses permaculture ethics\, principles\, and design language both as a lens to critically explore problems and a creative tool to generate resilient solutions. During our time together\, we will find and articulate the connections between social\, ecological\, and economic problems. By exploring case studies of grassroots organizing\, the cooperative movement\, the solidarity economy\, and participatory budgeting\, we will move beyond problem identification to solutions-oriented planning and action. We will also study and practice frameworks and tools for consensus building\, facilitation\, relational theory\, direct democracy\, commoning\, and participatory design. The course features a combination of thought-provoking readings\, perspective-shifting case studies\, engaging hands-on activities in the outdoors\, and challenging in-class exercises\, providing diverse learners with ample opportunity to build their capacity for catalyzing long-term societal change. After learning to apply permaculture principles to the social domain\, students will be better equipped to hold transformative spaces\, foster resilient\, equitable communities\, and provide generative leadership. \n
URL:https://lisamariedepiano.com/event/social-permaculture-at-sterling-college/
LOCATION:Sterling College\, 16 Sterling Drive\, Craftsbury Common\, VT\, 05827
END:VEVENT
END:VCALENDAR